BEGIN:VCALENDAR
VERSION:2.0
PRODID:Events Booking
BEGIN:VEVENT
UID:69e5855d789c1
SUMMARY:3rd Annual GSA Men's Spiritual Retreat
DESCRIPTION:\"It's a Journey\, Not a Desitination!\"
 Seminary of the Imma
 culate Conception440 West Neck Road\, Huntington\, NY 11743
 Registration
  Fee: $350
 Download Flyer
DTSTART:20241018T040000Z
DTEND:20241020T040000Z
DTSTAMP:20231108T070549Z
ORGANIZER;CN=GreySheeters Anonymous:MAILTO:webdev@greysheet.org
END:VEVENT
END:VCALENDAR