BEGIN:VCALENDAR
VERSION:2.0
PRODID:Events Booking
BEGIN:VEVENT
UID:69e8d2c7c2654
SUMMARY:GSA Winchester Mini Roundup
DESCRIPTION:We hope you can join us to celebrate abstinence and recovery.

  18 November 2023&nbsp\; •. 10:00 am - 2:00 pm GMT
 At St. Lawrence Par
 ish Room\, Colebrook Street\, Winchester S023 9LH
 Fellowship &amp\; Cath
 edral Visit &amp\; Dinner Optional Afterwards
 Recovery from Compulsive E
 ating &amp\; Food Addiction
DTSTART:20231118T050000Z
DTSTAMP:20231024T185706Z
ORGANIZER;CN=GreySheeters Anonymous:MAILTO:webdev@greysheet.org
END:VEVENT
END:VCALENDAR