BEGIN:VCALENDAR
VERSION:2.0
PRODID:Events Booking
BEGIN:VEVENT
UID:69eb72c8edbf3
SUMMARY:Irish Roundup
DESCRIPTION:GreySheet: A Bridge Back to Life
 Saturday August 3rd\, 2024 f
 rom 9am to 5pm Irish time
 Bray Methodist Church\, Florence Road\, Bray\,
  County Wicklow Eircode: A98 CV61(Corner of Florence and Eglinton Roads. F
 ive-minute walk from Bray Daly Train Station on Florence Road. 45 minutes 
 by Dublin Area Rapid Transit [DART] train from Dublin City Center [Connoll
 y Station]. Roundtrip 5.60 Euros. Tourist discounts available.)
DTSTART:20240803T040000Z
DTSTAMP:20231212T044207Z
ORGANIZER;CN=GreySheeters Anonymous:MAILTO:webdev@greysheet.org
END:VEVENT
END:VCALENDAR