BEGIN:VCALENDAR
VERSION:2.0
PRODID:Events Booking
BEGIN:VEVENT
UID:69e8e5eceb047
SUMMARY:Delegate Training for World Service Conference
DESCRIPTION:Sunday\, 10-5-25\, 10-11:30 am
 Zoom: 899 6677 4190 Usual PC
DTSTART:20251005T040000Z
DTSTAMP:20250620T030608Z
ORGANIZER;CN=GreySheeters Anonymous:MAILTO:webdev@greysheet.org
END:VEVENT
END:VCALENDAR