BEGIN:VCALENDAR
VERSION:2.0
PRODID:Events Booking
BEGIN:VEVENT
UID:69e8966fc9c02
SUMMARY:World Service Conference 2023
DESCRIPTION:8th World Service Conference
 Sunday October 22\,&nbsp\;2023 w
 ith a “rain date” of Sunday October 29\, 2023 on Zoom.
 Check in 8:45
 am to 9:15am ET. No admission after 9:30am ET. Estimated end time 2:25pm E
 T.
DTSTART:20231022T040000Z
DTSTAMP:20220226T060004Z
ORGANIZER;CN=GreySheeters Anonymous:MAILTO:webdev@greysheet.org
END:VEVENT
END:VCALENDAR